Workbook

Sheet Visão Geral
C1: Concurso SEEDF – Professor Educação Física · 2026
C2: Pedagogo – Orientador Educacional
A4: Informações do Concurso
A5: Situação | B5: 📡 | C5: Vagas | D5: 👥 | E5: Salário | F5: 💰 | G5: Banca | H5: 🏛️
A6: BANCA EM DEFINIÇÃO | C6: 50 | E6: 6749.1 | G6: Quadrix
A7: Preparação com edital anterior. O conteúdo e a estrutura da prova usam um edital anterior de 2022 como referência.
A9: Estrutura do Edital
A10: Conhecimentos | B10: 📚 | C10: Matérias | D10: 📖 | E10: Assuntos | F10: 📝 | G10: Questões Previstas | H10: ❓
A11: 3 | C11: 7 | E11: 125 | G11: 120
A13: Sobre os Seus Estudos
A14: Edital batido
A15: % do edital concluído | E15: =SUM(B35:B37)/125 -> 0%
A16: Assuntos estudados | E16: =SUM(B35:B37)&" de 125 assuntos" -> 0 de 125 assuntos
A18: Conhecimento | G18: Progresso
A19: Conhecimentos básicos/gerais | G19: =B35/35 -> 0%
A20: Conhecimentos complementares | G20: =B36/53 -> 0%
A21: Conhecimentos específicos | G21: =B37/37 -> 0%
A23: Revisão | E23: Feitas | H23: Atrasadas
A24: R1 · 1 dia | E24: =SUM(C35:C37) -> 0 | H24: =SUM(D35:D37) -> 0
A25: R7 · 7 dias | E25: =SUM(E35:E37) -> 0 | H25: =SUM(F35:F37) -> 0
A26: R30 · 30 dias | E26: =SUM(G35:G37) -> 0 | H26: =SUM(H35:H37) -> 0
A28: Como usar a planilha
A29: 1. Preencha a Data do Estudo de cada assunto nas abas de conhecimento — as datas de revisão (R1, R7 e R30) são calculadas automaticamente.
A30: 2. Em cada revisão, informe quantas questões fez e quantos acertos — o Desempenho é calculado sozinho.
A31: 3. Aqui na Visão Geral, acompanhe quanto falta estudar do edital e quantas revisões foram feitas ou estão atrasadas.
A35: Conhecimentos básicos-gerais | B35: =COUNT('Conhecimentos básicos-gerais'!C8:C42) | C35: =COUNT('Conhecimentos básicos-gerais'!E8:E42) | D35: =COUNTIFS('Conhecimentos básicos-gerais'!D8:D42,"<"&TODAY(),'Conhecimentos básicos-gerais'!E8:E42,"") | E35: =COUNT('Conhecimentos básicos-gerais'!I8:I42) | F35: =COUNTIFS('Conhecimentos básicos-gerais'!H8:H42,"<"&TODAY(),'Conhecimentos básicos-gerais'!I8:I42,"") | G35: =COUNT('Conhecimentos básicos-gerais'!M8:M42) | H35: =COUNTIFS('Conhecimentos básicos-gerais'!L8:L42,"<"&TODAY(),'Conhecimentos básicos-gerais'!M8:M42,"")
A36: Conhecimentos complementares | B36: =COUNT('Conhecimentos complementares'!C8:C60) | C36: =COUNT('Conhecimentos complementares'!E8:E60) | D36: =COUNTIFS('Conhecimentos complementares'!D8:D60,"<"&TODAY(),'Conhecimentos complementares'!E8:E60,"") | E36: =COUNT('Conhecimentos complementares'!I8:I60) | F36: =COUNTIFS('Conhecimentos complementares'!H8:H60,"<"&TODAY(),'Conhecimentos complementares'!I8:I60,"") | G36: =COUNT('Conhecimentos complementares'!M8:M60) | H36: =COUNTIFS('Conhecimentos complementares'!L8:L60,"<"&TODAY(),'Conhecimentos complementares'!M8:M60,"")
A37: Conhecimentos específicos | B37: =COUNT('Conhecimentos específicos'!C8:C44) | C37: =COUNT('Conhecimentos específicos'!E8:E44) | D37: =COUNTIFS('Conhecimentos específicos'!D8:D44,"<"&TODAY(),'Conhecimentos específicos'!E8:E44,"") | E37: =COUNT('Conhecimentos específicos'!I8:I44) | F37: =COUNTIFS('Conhecimentos específicos'!H8:H44,"<"&TODAY(),'Conhecimentos específicos'!I8:I44,"") | G37: =COUNT('Conhecimentos específicos'!M8:M44) | H37: =COUNTIFS('Conhecimentos específicos'!L8:L44,"<"&TODAY(),'Conhecimentos específicos'!M8:M44,"")

Sheet Conhecimentos básicos-gerais
C1: Concurso SEEDF – Professor Educação Física · 2026
C2: Pedagogo – Orientador Educacional
A3: Conhecimentos básicos/gerais
A4: SabiApp · Organize este edital no app — começar grátis
D6: Revisão R1 (1 dia) | H6: Revisão R7 (7 dias) | L6: Revisão R30 (30 dias)
A7: Matéria | B7: Assunto | C7: Data do Estudo | D7: Data da Revisão | E7: Questões Feitas | F7: Acertos | G7: Desempenho | H7: Data da Revisão | I7: Questões Feitas | J7: Acertos | K7: Desempenho | L7: Data da Revisão | M7: Questões Feitas | N7: Acertos | O7: Desempenho
A8: Língua Portuguesa | B8: Compreensão e interpretação de textos de gêneros variados | D8: =IF(C8="","",C8+1) | G8: =IF(OR(E8="",E8=0),"",F8/E8) | H8: =IF(C8="","",C8+7) | K8: =IF(OR(I8="",I8=0),"",J8/I8) | L8: =IF(C8="","",C8+30) | O8: =IF(OR(M8="",M8=0),"",N8/M8)
A9: Língua Portuguesa | B9: Reconhecimento de tipos e gêneros textuais | D9: =IF(C9="","",C9+1) | G9: =IF(OR(E9="",E9=0),"",F9/E9) | H9: =IF(C9="","",C9+7) | K9: =IF(OR(I9="",I9=0),"",J9/I9) | L9: =IF(C9="","",C9+30) | O9: =IF(OR(M9="",M9=0),"",N9/M9)
A10: Língua Portuguesa | B10: Domínio da ortografia oficial | D10: =IF(C10="","",C10+1) | G10: =IF(OR(E10="",E10=0),"",F10/E10) | H10: =IF(C10="","",C10+7) | K10: =IF(OR(I10="",I10=0),"",J10/I10) | L10: =IF(C10="","",C10+30) | O10: =IF(OR(M10="",M10=0),"",N10/M10)
A11: Língua Portuguesa | B11: Domínio dos mecanismos de coesão textual | D11: =IF(C11="","",C11+1) | G11: =IF(OR(E11="",E11=0),"",F11/E11) | H11: =IF(C11="","",C11+7) | K11: =IF(OR(I11="",I11=0),"",J11/I11) | L11: =IF(C11="","",C11+30) | O11: =IF(OR(M11="",M11=0),"",N11/M11)
A12: Língua Portuguesa | B12: Emprego de elementos de referenciação, substituição e repetição, de conectores e de outros elementos de sequenciação textual | D12: =IF(C12="","",C12+1) | G12: =IF(OR(E12="",E12=0),"",F12/E12) | H12: =IF(C12="","",C12+7) | K12: =IF(OR(I12="",I12=0),"",J12/I12) | L12: =IF(C12="","",C12+30) | O12: =IF(OR(M12="",M12=0),"",N12/M12)
A13: Língua Portuguesa | B13: Emprego de tempos e modos verbais | D13: =IF(C13="","",C13+1) | G13: =IF(OR(E13="",E13=0),"",F13/E13) | H13: =IF(C13="","",C13+7) | K13: =IF(OR(I13="",I13=0),"",J13/I13) | L13: =IF(C13="","",C13+30) | O13: =IF(OR(M13="",M13=0),"",N13/M13)
A14: Língua Portuguesa | B14: Domínio da estrutura morfossintática do período | D14: =IF(C14="","",C14+1) | G14: =IF(OR(E14="",E14=0),"",F14/E14) | H14: =IF(C14="","",C14+7) | K14: =IF(OR(I14="",I14=0),"",J14/I14) | L14: =IF(C14="","",C14+30) | O14: =IF(OR(M14="",M14=0),"",N14/M14)
A15: Língua Portuguesa | B15: Emprego das classes de palavras | D15: =IF(C15="","",C15+1) | G15: =IF(OR(E15="",E15=0),"",F15/E15) | H15: =IF(C15="","",C15+7) | K15: =IF(OR(I15="",I15=0),"",J15/I15) | L15: =IF(C15="","",C15+30) | O15: =IF(OR(M15="",M15=0),"",N15/M15)
A16: Língua Portuguesa | B16: Relações de coordenação entre orações e entre termos da oração | D16: =IF(C16="","",C16+1) | G16: =IF(OR(E16="",E16=0),"",F16/E16) | H16: =IF(C16="","",C16+7) | K16: =IF(OR(I16="",I16=0),"",J16/I16) | L16: =IF(C16="","",C16+30) | O16: =IF(OR(M16="",M16=0),"",N16/M16)
A17: Língua Portuguesa | B17: Relações de subordinação entre orações e entre termos da oração | D17: =IF(C17="","",C17+1) | G17: =IF(OR(E17="",E17=0),"",F17/E17) | H17: =IF(C17="","",C17+7) | K17: =IF(OR(I17="",I17=0),"",J17/I17) | L17: =IF(C17="","",C17+30) | O17: =IF(OR(M17="",M17=0),"",N17/M17)
A18: Língua Portuguesa | B18: Emprego dos sinais de pontuação | D18: =IF(C18="","",C18+1) | G18: =IF(OR(E18="",E18=0),"",F18/E18) | H18: =IF(C18="","",C18+7) | K18: =IF(OR(I18="",I18=0),"",J18/I18) | L18: =IF(C18="","",C18+30) | O18: =IF(OR(M18="",M18=0),"",N18/M18)
A19: Língua Portuguesa | B19: Concordância verbal e nominal | D19: =IF(C19="","",C19+1) | G19: =IF(OR(E19="",E19=0),"",F19/E19) | H19: =IF(C19="","",C19+7) | K19: =IF(OR(I19="",I19=0),"",J19/I19) | L19: =IF(C19="","",C19+30) | O19: =IF(OR(M19="",M19=0),"",N19/M19)
... A42: Conhecimentos Acerca do Distrito Federal | B42: Realidade étnica, social, histórica, geográfica, cultural, política e econômica do Distrito Federal e da Região Integrada de Desenvolvimento do Distrito Federal e Entorno (RIDE), instituída pela Lei Complementar nº 94/1998 e suas alterações | D42: =IF(C42="","",C42+1) | G42: =IF(OR(E42="",E42=0),"",F42/E42) | H42: =IF(C42="","",C42+7) | K42: =IF(OR(I42="",I42=0),"",J42/I42) | L42: =IF(C42="","",C42+30) | O42: =IF(OR(M42="",M42=0),"",N42/M42)

Sheet Conhecimentos complementares
C1: Concurso SEEDF – Professor Educação Física · 2026
C2: Pedagogo – Orientador Educacional
A3: Conhecimentos complementares
A4: SabiApp · Organize este edital no app — começar grátis
D6: Revisão R1 (1 dia) | H6: Revisão R7 (7 dias) | L6: Revisão R30 (30 dias)
A7: Matéria | B7: Assunto | C7: Data do Estudo | D7: Data da Revisão | E7: Questões Feitas | F7: Acertos | G7: Desempenho | H7: Data da Revisão | I7: Questões Feitas | J7: Acertos | K7: Desempenho | L7: Data da Revisão | M7: Questões Feitas | N7: Acertos | O7: Desempenho
A8: Legislação | B8: Constituição Federal de 1988 (artigos de 205 a 214) | D8: =IF(C8="","",C8+1) | G8: =IF(OR(E8="",E8=0),"",F8/E8) | H8: =IF(C8="","",C8+7) | K8: =IF(OR(I8="",I8=0),"",J8/I8) | L8: =IF(C8="","",C8+30) | O8: =IF(OR(M8="",M8=0),"",N8/M8)
A9: Legislação | B9: Lei de Diretrizes e Bases da Educação Nacional – Lei Federal nº 9.394/1996 e suas alterações (Título I até Título IX) | D9: =IF(C9="","",C9+1) | G9: =IF(OR(E9="",E9=0),"",F9/E9) | H9: =IF(C9="","",C9+7) | K9: =IF(OR(I9="",I9=0),"",J9/I9) | L9: =IF(C9="","",C9+30) | O9: =IF(OR(M9="",M9=0),"",N9/M9)
A10: Legislação | B10: Estatuto da Criança e do Adolescente – Lei Federal nº 8.069/1990 e suas alterações (Título I – Das Disposições Preliminares. Título II – Dos Direitos Fundamentais. Título IV – Das Medidas Pertinentes aos Pais ou Responsável. Título V – Do Conselho Tutelar.) | D10: =IF(C10="","",C10+1) | G10: =IF(OR(E10="",E10=0),"",F10/E10) | H10: =IF(C10="","",C10+7) | K10: =IF(OR(I10="",I10=0),"",J10/I10) | L10: =IF(C10="","",C10+30) | O10: =IF(OR(M10="",M10=0),"",N10/M10)
A11: Legislação | B11: Lei Brasileira de Inclusão da Pessoa com Deficiência – Lei Federal nº 13.146/2015 e suas alterações (Título II – Dos Direitos Fundamentais. Capítulo IV – Do Direito à Educação.) | D11: =IF(C11="","",C11+1) | G11: =IF(OR(E11="",E11=0),"",F11/E11) | H11: =IF(C11="","",C11+7) | K11: =IF(OR(I11="",I11=0),"",J11/I11) | L11: =IF(C11="","",C11+30) | O11: =IF(OR(M11="",M11=0),"",N11/M11)
A12: Legislação | B12: Diretrizes Curriculares Nacionais para a Educação Infantil – Resolução CNE/CEB nº 5/2009 | D12: =IF(C12="","",C12+1) | G12: =IF(OR(E12="",E12=0),"",F12/E12) | H12: =IF(C12="","",C12+7) | K12: =IF(OR(I12="",I12=0),"",J12/I12) | L12: =IF(C12="","",C12+30) | O12: =IF(OR(M12="",M12=0),"",N12/M12)
A13: Legislação | B13: Diretrizes Curriculares Nacionais para o Ensino Fundamental de 9 anos – Resolução CNE-CEB nº 7/2010 | D13: =IF(C13="","",C13+1) | G13: =IF(OR(E13="",E13=0),"",F13/E13) | H13: =IF(C13="","",C13+7) | K13: =IF(OR(I13="",I13=0),"",J13/I13) | L13: =IF(C13="","",C13+30) | O13: =IF(OR(M13="",M13=0),"",N13/M13)
A14: Legislação | B14: Diretrizes Curriculares Nacionais para o Ensino Médio – Resolução CNE/CEB nº 3/2018 | D14: =IF(C14="","",C14+1) | G14: =IF(OR(E14="",E14=0),"",F14/E14) | H14: =IF(C14="","",C14+7) | K14: =IF(OR(I14="",I14=0),"",J14/I14) | L14: =IF(C14="","",C14+30) | O14: =IF(OR(M14="",M14=0),"",N14/M14)
A15: Legislação | B15: Diretrizes operacionais para a Educação de Jovens e Adultos nos aspectos relativos ao seu alinhamento à Política Nacional de alfabetização (PNA) e à Base Nacional Comum Curricular (BNCC) e Educação de Jovens e Adultos a Distância – Resolução CNE/CEB nº 1/2021 | D15: =IF(C15="","",C15+1) | G15: =IF(OR(E15="",E15=0),"",F15/E15) | H15: =IF(C15="","",C15+7) | K15: =IF(OR(I15="",I15=0),"",J15/I15) | L15: =IF(C15="","",C15+30) | O15: =IF(OR(M15="",M15=0),"",N15/M15)
A16: Legislação | B16: Lei nº 13.415/2017 – Reforma do Ensino Médio | D16: =IF(C16="","",C16+1) | G16: =IF(OR(E16="",E16=0),"",F16/E16) | H16: =IF(C16="","",C16+7) | K16: =IF(OR(I16="",I16=0),"",J16/I16) | L16: =IF(C16="","",C16+30) | O16: =IF(OR(M16="",M16=0),"",N16/M16)
A17: Legislação | B17: Lei Orgânica do Distrito Federal (Título I – Dos Fundamentos da Organização dos Poderes e do Distrito Federal. Título II – Da Organização do Distrito Federal. Título III – Da Organização dos Poderes. Título VI – Da Ordem Social e do meio ambiente.) | D17: =IF(C17="","",C17+1) | G17: =IF(OR(E17="",E17=0),"",F17/E17) | H17: =IF(C17="","",C17+7) | K17: =IF(OR(I17="",I17=0),"",J17/I17) | L17: =IF(C17="","",C17+30) | O17: =IF(OR(M17="",M17=0),"",N17/M17)
A18: Legislação | B18: Resolução nº 2/2020-CEDF | D18: =IF(C18="","",C18+1) | G18: =IF(OR(E18="",E18=0),"",F18/E18) | H18: =IF(C18="","",C18+7) | K18: =IF(OR(I18="",I18=0),"",J18/I18) | L18: =IF(C18="","",C18+30) | O18: =IF(OR(M18="",M18=0),"",N18/M18)
A19: Legislação | B19: Regimento Escolar da Rede Pública de Ensino do Distrito Federal – Portaria nº 15, de 11 de fevereiro de 2015 e suas alterações | D19: =IF(C19="","",C19+1) | G19: =IF(OR(E19="",E19=0),"",F19/E19) | H19: =IF(C19="","",C19+7) | K19: =IF(OR(I19="",I19=0),"",J19/I19) | L19: =IF(C19="","",C19+30) | O19: =IF(OR(M19="",M19=0),"",N19/M19)
... A60: Temas Educacionais e Pedagógicos | B60: Educação em Direitos Humanos (Educação indígena; Educação quilombola; Educação das relações étnico-raciais; Educação em gênero e diversidade) | D60: =IF(C60="","",C60+1) | G60: =IF(OR(E60="",E60=0),"",F60/E60) | H60: =IF(C60="","",C60+7) | K60: =IF(OR(I60="",I60=0),"",J60/I60) | L60: =IF(C60="","",C60+30) | O60: =IF(OR(M60="",M60=0),"",N60/M60)

Sheet Conhecimentos específicos
C1: Concurso SEEDF – Professor Educação Física · 2026
C2: Pedagogo – Orientador Educacional
A3: Conhecimentos específicos
A4: SabiApp · Organize este edital no app — começar grátis
D6: Revisão R1 (1 dia) | H6: Revisão R7 (7 dias) | L6: Revisão R30 (30 dias)
A7: Matéria | B7: Assunto | C7: Data do Estudo | D7: Data da Revisão | E7: Questões Feitas | F7: Acertos | G7: Desempenho | H7: Data da Revisão | I7: Questões Feitas | J7: Acertos | K7: Desempenho | L7: Data da Revisão | M7: Questões Feitas | N7: Acertos | O7: Desempenho
A8: Pedagogia | B8: Aspectos pedagógicos e sociais da prática educativa, segundo as tendências pedagógicas | D8: =IF(C8="","",C8+1) | G8: =IF(OR(E8="",E8=0),"",F8/E8) | H8: =IF(C8="","",C8+7) | K8: =IF(OR(I8="",I8=0),"",J8/I8) | L8: =IF(C8="","",C8+30) | O8: =IF(OR(M8="",M8=0),"",N8/M8)
A9: Pedagogia | B9: Currículo em Movimento da Educação Básica da SEEDF – cadernos (2014) | D9: =IF(C9="","",C9+1) | G9: =IF(OR(E9="",E9=0),"",F9/E9) | H9: =IF(C9="","",C9+7) | K9: =IF(OR(I9="",I9=0),"",J9/I9) | L9: =IF(C9="","",C9+30) | O9: =IF(OR(M9="",M9=0),"",N9/M9)
A10: Pedagogia | B10: Pedagogia históricocrítica | D10: =IF(C10="","",C10+1) | G10: =IF(OR(E10="",E10=0),"",F10/E10) | H10: =IF(C10="","",C10+7) | K10: =IF(OR(I10="",I10=0),"",J10/I10) | L10: =IF(C10="","",C10+30) | O10: =IF(OR(M10="",M10=0),"",N10/M10)
A11: Pedagogia | B11: Psicologia histórico-cultural | D11: =IF(C11="","",C11+1) | G11: =IF(OR(E11="",E11=0),"",F11/E11) | H11: =IF(C11="","",C11+7) | K11: =IF(OR(I11="",I11=0),"",J11/I11) | L11: =IF(C11="","",C11+30) | O11: =IF(OR(M11="",M11=0),"",N11/M11)
A12: Pedagogia | B12: Eixos transversais: educação para a diversidade, educação para a sustentabilidade e educação em e para os direitos humanos | D12: =IF(C12="","",C12+1) | G12: =IF(OR(E12="",E12=0),"",F12/E12) | H12: =IF(C12="","",C12+7) | K12: =IF(OR(I12="",I12=0),"",J12/I12) | L12: =IF(C12="","",C12+30) | O12: =IF(OR(M12="",M12=0),"",N12/M12)
A13: Pedagogia | B13: Educação Integral: concepções teórico-metodológicas | D13: =IF(C13="","",C13+1) | G13: =IF(OR(E13="",E13=0),"",F13/E13) | H13: =IF(C13="","",C13+7) | K13: =IF(OR(I13="",I13=0),"",J13/I13) | L13: =IF(C13="","",C13+30) | O13: =IF(OR(M13="",M13=0),"",N13/M13)
A14: Pedagogia | B14: Teoria crítica e pós-crítica | D14: =IF(C14="","",C14+1) | G14: =IF(OR(E14="",E14=0),"",F14/E14) | H14: =IF(C14="","",C14+7) | K14: =IF(OR(I14="",I14=0),"",J14/I14) | L14: =IF(C14="","",C14+30) | O14: =IF(OR(M14="",M14=0),"",N14/M14)
A15: Pedagogia | B15: Planejamento educacional: projeto político-pedagógico | D15: =IF(C15="","",C15+1) | G15: =IF(OR(E15="",E15=0),"",F15/E15) | H15: =IF(C15="","",C15+7) | K15: =IF(OR(I15="",I15=0),"",J15/I15) | L15: =IF(C15="","",C15+30) | O15: =IF(OR(M15="",M15=0),"",N15/M15)
A16: Pedagogia | B16: Avaliação educacional: aprendizagem, institucional e em larga escala. Funções da avaliação: diagnóstica, somativa, classificatória e formativa | D16: =IF(C16="","",C16+1) | G16: =IF(OR(E16="",E16=0),"",F16/E16) | H16: =IF(C16="","",C16+7) | K16: =IF(OR(I16="",I16=0),"",J16/I16) | L16: =IF(C16="","",C16+30) | O16: =IF(OR(M16="",M16=0),"",N16/M16)
A17: Pedagogia | B17: Escolarização na socioeducação | D17: =IF(C17="","",C17+1) | G17: =IF(OR(E17="",E17=0),"",F17/E17) | H17: =IF(C17="","",C17+7) | K17: =IF(OR(I17="",I17=0),"",J17/I17) | L17: =IF(C17="","",C17+30) | O17: =IF(OR(M17="",M17=0),"",N17/M17)
A18: Pedagogia | B18: Organização do trabalho pedagógico e da gestão escolar: projeto político-pedagógico da escola e coordenação pedagógica na educação básica | D18: =IF(C18="","",C18+1) | G18: =IF(OR(E18="",E18=0),"",F18/E18) | H18: =IF(C18="","",C18+7) | K18: =IF(OR(I18="",I18=0),"",J18/I18) | L18: =IF(C18="","",C18+30) | O18: =IF(OR(M18="",M18=0),"",N18/M18)
A19: Pedagogia | B19: Orientação Pedagógica para elaboração do Projeto Político-Pedagógico na escola | D19: =IF(C19="","",C19+1) | G19: =IF(OR(E19="",E19=0),"",F19/E19) | H19: =IF(C19="","",C19+7) | K19: =IF(OR(I19="",I19=0),"",J19/I19) | L19: =IF(C19="","",C19+30) | O19: =IF(OR(M19="",M19=0),"",N19/M19)
... A44: Pedagogia | B44: Plano de convivência escolar/mediação de conflitos no contexto escolar | D44: =IF(C44="","",C44+1) | G44: =IF(OR(E44="",E44=0),"",F44/E44) | H44: =IF(C44="","",C44+7) | K44: =IF(OR(I44="",I44=0),"",J44/I44) | L44: =IF(C44="","",C44+30) | O44: =IF(OR(M44="",M44=0),"",N44/M44)
